BEGIN:VCALENDAR
VERSION:2.0
PRODID:-//DATES project - ECPv6.0.8//NONSGML v1.0//EN
CALSCALE:GREGORIAN
METHOD:PUBLISH
X-WR-CALNAME:DATES project
X-ORIGINAL-URL:https://www.tourismdataspace-csa.eu
X-WR-CALDESC:Events for DATES project
REFRESH-INTERVAL;VALUE=DURATION:PT1H
X-Robots-Tag:noindex
X-PUBLISHED-TTL:PT1H
BEGIN:VTIMEZONE
TZID:Europe/Paris
BEGIN:DAYLIGHT
TZOFFSETFROM:+0100
TZOFFSETTO:+0200
TZNAME:CEST
DTSTART:20230326T010000
END:DAYLIGHT
BEGIN:STANDARD
TZOFFSETFROM:+0200
TZOFFSETTO:+0100
TZNAME:CET
DTSTART:20231029T010000
END:STANDARD
END:VTIMEZONE
BEGIN:VEVENT
DTSTART;TZID=Europe/Paris:20230317T103000
DTEND;TZID=Europe/Paris:20230317T174500
DTSTAMP:20260421T023003
CREATED:20230316T085148Z
LAST-MODIFIED:20230317T145009Z
UID:491-1679049000-1679075100@www.tourismdataspace-csa.eu
SUMMARY:Travel Forum  2023
DESCRIPTION:The CzechTourism agency would like to invite you to the twelfth edition of the Tourism Forum conference\, which will take place on Friday\, March 17\, 2023. Its venue will be Hall No. 8 in the PVA EXPO Letňany area. \nThe traditional event\, this year taking place as part of the HOLIDAY WORLD & REGION WORLD fair\, chooses sustainability as its basic theme\, not only from the point of view of environmental protection\, but also from an economic and social point of view. Domestic and foreign experts will bring a lot of inspiration for both destination management and entrepreneurs. Apart from the topic of sustainability\, a whole range of innovative ideas in tourism will appear in individual lectures\, debates and more practically focused workshops. \nThe official languages ​​will be English and Czech\, and simultaneous interpretation into Czech is also provided. The event will take place in a hybrid form\, an online broadcast will be available for all interested parties. \nParticipation in the conference will be subject to free registration via the online reservation system here: \nA welcome bonus for registered conference participants is free entry to the entire fair. \nFind the agenda here
URL:https://www.tourismdataspace-csa.eu/event/tourism-forum-2023/
CATEGORIES:Community Event
ATTACH;FMTTYPE=image/png:https://www.tourismdataspace-csa.eu/wp-content/uploads/2023/03/czech.png
END:VEVENT
BEGIN:VEVENT
DTSTART;VALUE=DATE:20230321
DTEND;VALUE=DATE:20230324
DTSTAMP:20260421T023003
CREATED:20230217T101854Z
LAST-MODIFIED:20230217T102422Z
UID:431-1679356800-1679615999@www.tourismdataspace-csa.eu
SUMMARY:Data Space Symposium & Deep-Dive Day
DESCRIPTION:Come join us for the largest event on data spaces ever! Hosted by the Center of Excellence for Data Sharing and Cloud (TNO)\, International Data Spaces Association\, the Basic Data Infrastructure network and the Data Spaces Support Centre\, boosted by the Data Spaces Business Alliance\, organized together with EUHubs4Data and MyData Global – all relevant data sharing initiatives and endeavors at one place. \n  \nmore info…
URL:https://www.tourismdataspace-csa.eu/event/data-space-symposium-deep-dive-day/
LOCATION:Postillion Hotel\, Waldorpstraat 15\, 2521 CA Den Haag\, Países Bajos\, The Hague\, 2521\, Netherlands
CATEGORIES:Community Event
ATTACH;FMTTYPE=image/png:https://www.tourismdataspace-csa.eu/wp-content/uploads/2023/02/dataspacesymposiumday.png
END:VEVENT
BEGIN:VEVENT
DTSTART;VALUE=DATE:20230505
DTEND;VALUE=DATE:20230506
DTSTAMP:20260421T023003
CREATED:20230217T102536Z
LAST-MODIFIED:20230217T102536Z
UID:435-1683244800-1683331199@www.tourismdataspace-csa.eu
SUMMARY:European Tourism Day
DESCRIPTION:
URL:https://www.tourismdataspace-csa.eu/event/european-tourism-day/
CATEGORIES:Community Event
END:VEVENT
BEGIN:VEVENT
DTSTART;TZID=Europe/Paris:20230612T093000
DTEND;TZID=Europe/Paris:20230612T140000
DTSTAMP:20260421T023003
CREATED:20230626T081348Z
LAST-MODIFIED:20230626T081348Z
UID:598-1686562200-1686578400@www.tourismdataspace-csa.eu
SUMMARY:InfoDay programa Digital Europe\, Madrid
DESCRIPTION:Sesion informativa sobre el programa Digital Europe \nRegistro aquí
URL:https://www.tourismdataspace-csa.eu/event/infoday-programa-digital-europe-madrid/
CATEGORIES:Community Event
END:VEVENT
BEGIN:VEVENT
DTSTART;VALUE=DATE:20230613
DTEND;VALUE=DATE:20230616
DTSTAMP:20260421T023003
CREATED:20230626T081646Z
LAST-MODIFIED:20230626T081646Z
UID:600-1686614400-1686873599@www.tourismdataspace-csa.eu
SUMMARY:Data Week
DESCRIPTION:Data Week 2023 is the spring gathering of the European Big Data and Data Driven AI research and innovation communities. In Data Week\, the participants share knowledge and results\, discuss topics of common interest\, find synergies\, build new collaborations and identify new challenges and recommendations. Data Week also links the communities and their results to the European policies and market needs and brings European initiatives and activities closer to local communities. \n  \nmore info here
URL:https://www.tourismdataspace-csa.eu/event/data-week-2/
CATEGORIES:Community Event
ATTACH;FMTTYPE=image/png:https://www.tourismdataspace-csa.eu/wp-content/uploads/2023/06/dataweek.png
END:VEVENT
BEGIN:VEVENT
DTSTART;TZID=Europe/Paris:20230620T080000
DTEND;TZID=Europe/Paris:20230620T143000
DTSTAMP:20260421T023003
CREATED:20230626T081912Z
LAST-MODIFIED:20230626T081912Z
UID:603-1687248000-1687271400@www.tourismdataspace-csa.eu
SUMMARY:Data Strategy 2023
DESCRIPTION:En el mundo actual\, los datos son el “nuevo oxígeno” y están en todas partes. Las organizaciones digitales los crean y consumen; además de que saben cómo crear ciclos continuos de conocimiento y transformación que les permite ser más agiles\, resilientes\, enfocados en el cliente y más competitivos. \nExisten tecnologías muy potentes e innovadoras sobre las que se apoyan las soluciones alrededor de los datos; pero es importante acompañarlo con una cultura centrada en los datos para convertirse en una empresa inteligente. La velocidad a la que las organizaciones consiguen alcanzar el ROI de sus inversiones en tecnología inteligente\, se está convirtiendo en un factor de éxito cada vez más importante. Las metodologías ágiles\, y las tecnologías sobre la nube\, son ahora tan esenciales en la gestión de la inteligencia empresarial como lo son en las operaciones comerciales y tecnológicas.
URL:https://www.tourismdataspace-csa.eu/event/data-strategy-2023/
CATEGORIES:Community Event
ATTACH;FMTTYPE=image/png:https://www.tourismdataspace-csa.eu/wp-content/uploads/2023/06/data-estrategy.png
END:VEVENT
BEGIN:VEVENT
DTSTART;TZID=Europe/Paris:20230626T143000
DTEND;TZID=Europe/Paris:20230626T153000
DTSTAMP:20260421T023003
CREATED:20230626T081138Z
LAST-MODIFIED:20230626T081204Z
UID:595-1687789800-1687793400@www.tourismdataspace-csa.eu
SUMMARY:Governance for Data Spaces
DESCRIPTION:Organised in the In the context of the Data Spaces Support Centre Insight series\, the Governance of Data Spaces webinar aims to bring together stakeholders from various domains to explore the governance approaches and share experiences in managing data spaces. By showcasing use-cases on sustainable mobility\, energy flow management\, pollution\, and tourism from the projects DS4SSCC\, PrepDSpace4Mobility\, GREAT\, and DATES\, the webinar aims to contribute to the development of effective governance guidelines for data spaces in these domains. The speakers will provide valuable insights and foster discussions that will pave the way for the advancement of data-driven services and the sustainable development of smart cities and communities. \n  \nRegistrations here
URL:https://www.tourismdataspace-csa.eu/event/governance-for-data-spaces/
CATEGORIES:Community Event
ATTACH;FMTTYPE=image/jpeg:https://www.tourismdataspace-csa.eu/wp-content/uploads/2023/06/DSSC-Insight-Series.-Governance-for-data-spaces.jpg
END:VEVENT
BEGIN:VEVENT
DTSTART;TZID=Europe/Paris:20230629T093000
DTEND;TZID=Europe/Paris:20230629T123000
DTSTAMP:20260421T023003
CREATED:20230629T085854Z
LAST-MODIFIED:20230629T085854Z
UID:628-1688031000-1688041800@www.tourismdataspace-csa.eu
SUMMARY:Informative event Gaia-X Spain
DESCRIPTION:Find out about the activities that Gaia X Spain is carrying out to boost the data economy and see first-hand the actions that are being carried out in Europe. \nmore info\, here
URL:https://www.tourismdataspace-csa.eu/event/informative-event-gaia-x-spain/
CATEGORIES:Community Event
ATTACH;FMTTYPE=image/png:https://www.tourismdataspace-csa.eu/wp-content/uploads/2023/06/evento-presentacion-gaia-x-espana.png
END:VEVENT
BEGIN:VEVENT
DTSTART;VALUE=DATE:20231018
DTEND;VALUE=DATE:20231021
DTSTAMP:20260421T023003
CREATED:20230626T082109Z
LAST-MODIFIED:20230626T082109Z
UID:606-1697587200-1697846399@www.tourismdataspace-csa.eu
SUMMARY:TIS 2023
DESCRIPTION:Travel Revolution Takes Off\nThe outlook of tourism looks promising. As all destinations are now open to travellers with the reopening of China’s borders\, we can finally say that international travel has bounced back across all regions. Despite the current economic inflation\, climate impacts or geopolitical risks\, the hunger to discover new destinations or the desire to endure experiences with purpose is more alive than ever. \nHowever\, tourism has changed and all stakeholders within the industry must embrace this transformation. The acceleration of digitalization\, the importance of sustainability and new consumer trends are driving cutting-edge tourism that needs to be smarter\, digital and sustainable. \nTourism Innovation Summit is the place to be for any tourism expert that wants to take off on this digital journey. For three days\, our showroom gathers the most unique tech solutions for industry professionals to take their business or destination to the next level. The Tourism Innovation Global Summit brings together the greatest minds to inspire others\, encourage disruptive conversations and create collaborative frameworks to move further unitedly. And the high-level networking events\, create great memories that help us build long-lasting relationships.
URL:https://www.tourismdataspace-csa.eu/event/tis-2023/
CATEGORIES:Community Event
ATTACH;FMTTYPE=image/png:https://www.tourismdataspace-csa.eu/wp-content/uploads/2023/06/logo-header-tourisminnovationsummit.png
END:VEVENT
END:VCALENDAR