BEGIN:VCALENDAR
VERSION:2.0
PRODID:-//DATES project - ECPv6.0.8//NONSGML v1.0//EN
CALSCALE:GREGORIAN
METHOD:PUBLISH
X-WR-CALNAME:DATES project
X-ORIGINAL-URL:https://www.tourismdataspace-csa.eu
X-WR-CALDESC:Events for DATES project
REFRESH-INTERVAL;VALUE=DURATION:PT1H
X-Robots-Tag:noindex
X-PUBLISHED-TTL:PT1H
BEGIN:VTIMEZONE
TZID:Europe/Paris
BEGIN:DAYLIGHT
TZOFFSETFROM:+0100
TZOFFSETTO:+0200
TZNAME:CEST
DTSTART:20230326T010000
END:DAYLIGHT
BEGIN:STANDARD
TZOFFSETFROM:+0200
TZOFFSETTO:+0100
TZNAME:CET
DTSTART:20231029T010000
END:STANDARD
END:VTIMEZONE
BEGIN:VEVENT
DTSTART;VALUE=DATE:20230203
DTEND;VALUE=DATE:20230204
DTSTAMP:20260420T132402
CREATED:20230118T090522Z
LAST-MODIFIED:20230118T091212Z
UID:297-1675382400-1675468799@www.tourismdataspace-csa.eu
SUMMARY:Open Data Tourism Alliance Meeting
DESCRIPTION:DATES presented at ODTA (Open Data Tourism Alliance) meeting in Vienna\, Austria
URL:https://www.tourismdataspace-csa.eu/event/open-data-tourism-alliance-meeting/
LOCATION:Vienna\, Austria
CATEGORIES:Community Event
ATTACH;FMTTYPE=image/png:https://www.tourismdataspace-csa.eu/wp-content/uploads/2023/01/ODTA.png
END:VEVENT
END:VCALENDAR