BEGIN:VCALENDAR
VERSION:2.0
PRODID:-//DATES project - ECPv6.0.8//NONSGML v1.0//EN
CALSCALE:GREGORIAN
METHOD:PUBLISH
X-ORIGINAL-URL:https://www.tourismdataspace-csa.eu
X-WR-CALDESC:Events for DATES project
REFRESH-INTERVAL;VALUE=DURATION:PT1H
X-Robots-Tag:noindex
X-PUBLISHED-TTL:PT1H
BEGIN:VTIMEZONE
TZID:Europe/Paris
BEGIN:DAYLIGHT
TZOFFSETFROM:+0100
TZOFFSETTO:+0200
TZNAME:CEST
DTSTART:20230326T010000
END:DAYLIGHT
BEGIN:STANDARD
TZOFFSETFROM:+0200
TZOFFSETTO:+0100
TZNAME:CET
DTSTART:20231029T010000
END:STANDARD
END:VTIMEZONE
BEGIN:VEVENT
DTSTART;VALUE=DATE:20230118
DTEND;VALUE=DATE:20230119
DTSTAMP:20260420T145640
CREATED:20230118T084816Z
LAST-MODIFIED:20230118T085011Z
UID:290-1674000000-1674086399@www.tourismdataspace-csa.eu
SUMMARY:DATES in FITUR 2023
DESCRIPTION:DATES presented in FITUR (Madrid\, Spain) during the session “The use of data as a competitive leverage“. \nhttps://www.ifema.es/fitur
URL:https://www.tourismdataspace-csa.eu/event/dates-in-fitur-2023/
LOCATION:Madrid\, Madrid\, Spain
CATEGORIES:Community Event
ATTACH;FMTTYPE=image/jpeg:https://www.tourismdataspace-csa.eu/wp-content/uploads/2023/01/sesion-datos.jpg
END:VEVENT
END:VCALENDAR