BEGIN:VCALENDAR
VERSION:2.0
PRODID:-//DATES project - ECPv6.0.8//NONSGML v1.0//EN
CALSCALE:GREGORIAN
METHOD:PUBLISH
X-WR-CALNAME:DATES project
X-ORIGINAL-URL:https://www.tourismdataspace-csa.eu
X-WR-CALDESC:Events for DATES project
REFRESH-INTERVAL;VALUE=DURATION:PT1H
X-Robots-Tag:noindex
X-PUBLISHED-TTL:PT1H
BEGIN:VTIMEZONE
TZID:Europe/Paris
BEGIN:DAYLIGHT
TZOFFSETFROM:+0100
TZOFFSETTO:+0200
TZNAME:CEST
DTSTART:20220327T010000
END:DAYLIGHT
BEGIN:STANDARD
TZOFFSETFROM:+0200
TZOFFSETTO:+0100
TZNAME:CET
DTSTART:20221030T010000
END:STANDARD
END:VTIMEZONE
BEGIN:VEVENT
DTSTART;VALUE=DATE:20221212
DTEND;VALUE=DATE:20221216
DTSTAMP:20260420T162604
CREATED:20221214T121320Z
LAST-MODIFIED:20221214T121320Z
UID:210-1670803200-1671148799@www.tourismdataspace-csa.eu
SUMMARY:GSTC2022 Global Conference
DESCRIPTION:The GSTC2022 Global Conference in Seville will address: (A) Tourism Adaptation to Climate Change; (B) Mainstreaming Sustainability Standards; and (C) Destination Stewardship. \nMore information here.
URL:https://www.tourismdataspace-csa.eu/event/gstc2022-global-conference/
LOCATION:GSTC Conference\, Seville\, Spain
CATEGORIES:Community Event
ATTACH;FMTTYPE=image/jpeg:https://www.tourismdataspace-csa.eu/wp-content/uploads/2022/11/GSTC2022-banner-sponsors-e1670577879606.jpg
END:VEVENT
BEGIN:VEVENT
DTSTART;VALUE=DATE:20221213
DTEND;VALUE=DATE:20221217
DTSTAMP:20260420T162604
CREATED:20221209T092640Z
LAST-MODIFIED:20221209T092640Z
UID:202-1670893200-1671152399@www.tourismdataspace-csa.eu
SUMMARY:OECD Digital Economy Ministerial Meeting
DESCRIPTION:The conference will discuss on driving long-term recovery and economic growth by building a trusted\, sustainable\, and inclusive digital future. The event will focus on 4 themes: (i) Digital enablers of the global economy; (ii) Building better societies; (iii) Putting people first in digital transformation; and (iv) Harnessing the power of AI and emerging technologies
URL:https://www.tourismdataspace-csa.eu/event/oecd-digital-economy-ministerial-meeting/
ATTACH;FMTTYPE=image/png:https://www.tourismdataspace-csa.eu/wp-content/uploads/2022/11/logo-OECD-gran-canaria.png
END:VEVENT
END:VCALENDAR