BEGIN:VCALENDAR
VERSION:2.0
PRODID:-//DATES project - ECPv6.0.8//NONSGML v1.0//EN
CALSCALE:GREGORIAN
METHOD:PUBLISH
X-ORIGINAL-URL:https://www.tourismdataspace-csa.eu
X-WR-CALDESC:Events for DATES project
REFRESH-INTERVAL;VALUE=DURATION:PT1H
X-Robots-Tag:noindex
X-PUBLISHED-TTL:PT1H
BEGIN:VTIMEZONE
TZID:Europe/Paris
BEGIN:DAYLIGHT
TZOFFSETFROM:+0100
TZOFFSETTO:+0200
TZNAME:CEST
DTSTART:20220327T010000
END:DAYLIGHT
BEGIN:STANDARD
TZOFFSETFROM:+0200
TZOFFSETTO:+0100
TZNAME:CET
DTSTART:20221030T010000
END:STANDARD
END:VTIMEZONE
BEGIN:VEVENT
DTSTART;VALUE=DATE:20221124
DTEND;VALUE=DATE:20221125
DTSTAMP:20260420T180700
CREATED:20221214T121704Z
LAST-MODIFIED:20221214T121705Z
UID:213-1669248000-1669334399@www.tourismdataspace-csa.eu
SUMMARY:INTO Seminar
DESCRIPTION:This edition of the INTO Seminar is presented under the title “The importance of data and disruptive technologies to provide solutions to the value chain of the tourism industry”. This edition will focus on three aspects; on the one hand\, the analysis of data as a key factor for the design of strategies and the analysis of the demand; on the other\, the technologies that facilitate tourist intermediation; and finally\, the technological tools for the management of sustainable demand models for the tourist accommodation sector. \nMore information and registration here.
URL:https://www.tourismdataspace-csa.eu/event/into-seminar/
LOCATION:Mallorca\, Mallorca\, Spain
CATEGORIES:Community Event
ATTACH;FMTTYPE=image/jpeg:https://www.tourismdataspace-csa.eu/wp-content/uploads/2022/11/Disseny-INTO-2022-e1670577864956.jpg
END:VEVENT
END:VCALENDAR