BEGIN:VCALENDAR
VERSION:2.0
PRODID:-//DATES project - ECPv6.0.8//NONSGML v1.0//EN
CALSCALE:GREGORIAN
METHOD:PUBLISH
X-WR-CALNAME:DATES project
X-ORIGINAL-URL:https://www.tourismdataspace-csa.eu
X-WR-CALDESC:Events for DATES project
REFRESH-INTERVAL;VALUE=DURATION:PT1H
X-Robots-Tag:noindex
X-PUBLISHED-TTL:PT1H
BEGIN:VTIMEZONE
TZID:Europe/Paris
BEGIN:DAYLIGHT
TZOFFSETFROM:+0100
TZOFFSETTO:+0200
TZNAME:CEST
DTSTART:20220327T010000
END:DAYLIGHT
BEGIN:STANDARD
TZOFFSETFROM:+0200
TZOFFSETTO:+0100
TZNAME:CET
DTSTART:20221030T010000
END:STANDARD
END:VTIMEZONE
BEGIN:VEVENT
DTSTART;VALUE=DATE:20221115
DTEND;VALUE=DATE:20221118
DTSTAMP:20260420T180529
CREATED:20221214T122839Z
LAST-MODIFIED:20221214T122839Z
UID:228-1668470400-1668729599@www.tourismdataspace-csa.eu
SUMMARY:European Travel Commission General Meeting
DESCRIPTION:ETC’s 104th General Meeting will take place in Prague\, the Czech Republic from 15th – 17th November 2022. \nMore information here.
URL:https://www.tourismdataspace-csa.eu/event/european-travel-commission-general-meeting/
LOCATION:Prague\, Prague\, Czech Republic
CATEGORIES:Community Event
ATTACH;FMTTYPE=image/png:https://www.tourismdataspace-csa.eu/wp-content/uploads/2022/11/etc-logo.png
END:VEVENT
BEGIN:VEVENT
DTSTART;VALUE=DATE:20221115
DTEND;VALUE=DATE:20221118
DTSTAMP:20260420T180529
CREATED:20221214T123028Z
LAST-MODIFIED:20221214T123028Z
UID:230-1668470400-1668729599@www.tourismdataspace-csa.eu
SUMMARY:Smart City Expo World Congress
DESCRIPTION:Held in Barcelona since 2011\, Smart City Expo World Congress is the international leading event for cities. Our mission is to empower cities and collectivize urban innovation across the globe. Through promoting social innovation and identifying collaboration opportunities\, the event is dedicated to creating a better future for cities and their citizens. \nMore information here.
URL:https://www.tourismdataspace-csa.eu/event/smart-city-expo-world-congress/
LOCATION:Barcelona\, Barcelona\, Spain
CATEGORIES:Community Event
ATTACH;FMTTYPE=image/jpeg:https://www.tourismdataspace-csa.eu/wp-content/uploads/2022/11/Smart-City-World-Congress.jpg
END:VEVENT
BEGIN:VEVENT
DTSTART;VALUE=DATE:20221117
DTEND;VALUE=DATE:20221119
DTSTAMP:20260420T180529
CREATED:20221214T122617Z
LAST-MODIFIED:20221214T122617Z
UID:225-1668643200-1668815999@www.tourismdataspace-csa.eu
SUMMARY:GAIA-X Summit
DESCRIPTION:The 3rd edition of the Gaia-X Summit is here. This year’s Summit will take place in Paris\, France between the 17 and 18 of November\, concluding the adoption year of the Gaia-X Framework and bridging the latest releases of the Gaia-X framework\, governance\, specifications\, technology solution\, and business Lighthouse impact. The conclusion of this year’s Summit onsets the growth year of the Association\, clearly scaling on its technology solution and bringing concrete business value through its Lighthouse projects. \nMore information here.
URL:https://www.tourismdataspace-csa.eu/event/gaia-x-summit/
LOCATION:Paris\, Paris\, France
CATEGORIES:Community Event
ATTACH;FMTTYPE=image/png:https://www.tourismdataspace-csa.eu/wp-content/uploads/2022/11/GaiaXsummit22-e1670577901502.png
END:VEVENT
END:VCALENDAR